Workbook
Name Absolute_Cash_Ratio: 'Ratio Analysis'!$C$9
Name Absolute_Cash_Ratio: 'Ratios Calculation'!$C$8
Name Absolute_Cash_Ratio: 'Ratios Details'!$C$8
Name Capital_Gearing_Ratio: 'Ratio Analysis'!$C$22
Name Capital_Gearing_Ratio: 'Ratios Calculation'!$C$18
Name Capital_Gearing_Ratio: 'Ratios Details'!$C$18
Name Capital_Turnover_Ratio: 'Ratio Analysis'!$C$56
Name Capital_Turnover_Ratio: 'Ratios Calculation'!$C$52
Name Capital_Turnover_Ratio: 'Ratios Details'!$C$52
Name CashandBank: #REF!
Name Contribution_Sales_Ratio: 'Ratio Analysis'!#REF!
Name Contribution_Sales_Ratio: 'Ratios Calculation'!#REF!
Name Contribution_Sales_Ratio: 'Ratios Details'!#REF!
Name Creditors_Turnover_ratio: 'Ratio Analysis'!#REF!
Name Creditors_Turnover_ratio: 'Ratios Calculation'!#REF!
Name Creditors_Turnover_ratio: 'Ratios Details'!#REF!
Name Current_Ratio: 'Ratio Analysis'!$C$7
Name Current_Ratio: 'Ratios Calculation'!$C$6
Name Current_Ratio: 'Ratios Details'!$C$6
Name Debt_Equity_Ratio: 'Ratio Analysis'!$C$19
Name Debt_Equity_Ratio: 'Ratios Calculation'!$C$15
Name Debt_Equity_Ratio: 'Ratios Details'!$C$15
Name Debt_Service_Coverage_Ratio: 'Ratio Analysis'!$C$33
Name Debt_Service_Coverage_Ratio: 'Ratios Calculation'!$C$26
Name Debt_Service_Coverage_Ratio: 'Ratios Details'!$C$26
Name Debtors: #REF!
Name Debtors_Turnover_ratio: 'Ratio Analysis'!#REF!
Name Debtors_Turnover_ratio: 'Ratios Calculation'!#REF!
Name Debtors_Turnover_ratio: 'Ratios Details'!#REF!
Name Dividend_Per_Share: 'Ratio Analysis'!$C$75
Name Dividend_Per_Share: 'Ratios Calculation'!$C$58
Name Dividend_Per_Share: 'Ratios Details'!$C$58
Name Earnings_Per_Share: 'Ratio Analysis'!$C$73
Name Earnings_Per_Share: 'Ratios Calculation'!$C$57
Name Earnings_Per_Share: 'Ratios Details'!$C$57
Name Equity_to_Total_Funds_Ratios: 'Ratio Analysis'!#REF!
Name Equity_to_Total_Funds_Ratios: 'Ratios Calculation'!#REF!
Name Equity_to_Total_Funds_Ratios: 'Ratios Details'!#REF!
Name Finished_Goods_or_Stock_Turnover_ratio: 'Ratio Analysis'!$C$62
Name Finished_Goods_or_Stock_Turnover_ratio: 'Ratios Calculation'!#REF!
Name Finished_Goods_or_Stock_Turnover_ratio: 'Ratios Details'!#REF!
Name Fixed_Asset_to_Long_Term_Fund_Ratio: 'Ratio Analysis'!$C$23
Name Fixed_Asset_to_Long_Term_Fund_Ratio: 'Ratios Calculation'!$C$19
Name Fixed_Asset_to_Long_Term_Fund_Ratio: 'Ratios Details'!$C$19
Name Fixed_Asset_Turnover_Ratio: 'Ratio Analysis'!$C$58
Name Fixed_Asset_Turnover_Ratio: 'Ratios Calculation'!#REF!
Name Fixed_Asset_Turnover_Ratio: 'Ratios Details'!#REF!
Name Gross_Profit_ratio: 'Ratio Analysis'!#REF!
Name Gross_Profit_ratio: 'Ratios Calculation'!#REF!
Name Gross_Profit_ratio: 'Ratios Details'!#REF!
Name Interest_Coverage_Ratio: 'Ratio Analysis'!$C$34
Name Interest_Coverage_Ratio: 'Ratios Calculation'!$C$27
Name Interest_Coverage_Ratio: 'Ratios Details'!$C$27
Name Interval_Measure: 'Ratio Analysis'!$C$11
Name Interval_Measure: 'Ratios Calculation'!$C$10
Name Interval_Measure: 'Ratios Details'!$C$10
Name Inventory: #REF!
Name LoansandAdvances: #REF!
Name Net_profit_Ratio: 'Ratio Analysis'!#REF!
Name Net_profit_Ratio: 'Ratios Calculation'!#REF!

Sheet Index
J1: This professional tool has been downloaded from www.wirc-icai.org For queries kindly mail to the contributor(s) at prashant.kotecha@kcmehta.com

Sheet List of Ratio
A2: List of Ratios
A4: [A] | B4: LIQUIDITY RATIO / SHORT TERM SOLVENCY RATIO | D4: My Book | E4: 46_ Ratios | F4: Ratio Analysis
B5: 1 | C5: Current Ratio | D5: Yes | E5: Yes | F5: Yes
B6: 2 | C6: Quick Ratio / Acid-test Ratio / Liquid Ratio | D6: Yes | E6: Yes | F6: Yes
B7: 3 | C7: Absolute Cash Ratio | D7: Yes | E7: Yes | F7: No
B8: 4 | C8: Cash Position to total Assets Ratio | D8: Yes | E8: No | F8: No
B9: 5 | C9: Internal Cash Measure Ratio | D9: Yes | E9: No | F9: No
A11: [B] | B11: CAPITAL STRUCTURE RATIOS-INDICATOR OF FINANCING TECHNIQUES AND LONG TERM SOLVENCY
B12: 1 | C12: Debt - Equity Ratio | D12: Yes | E12: Yes | F12: Yes
B13: 2 | C13: Debt - Capital Employed Ratio | D13: Yes | E13: No | F13: No
B14: 3 | C14: Proprietary / Equity Fund Ratio | D14: Yes | E14: No | F14: No
B15: 4 | C15: Capital Gearing Ratio | D15: Yes | E15: Yes | F15: No
B16: 5 | C16: Fixed Assets to Capital Employed Ratio | D16: Yes | E16: No | F16: No
A18: [C] | B18: COVERAGE RATIOS
B19: 1 | C19: Preference Dividend Coverage Ratio | D19: Yes | E19: Yes | F19: No
B20: 2 | C20: Equity Dividend Coverage Ratio | D20: Yes | E20: No | F20: No
B21: 3 | C21: Debt Service Coverage Ratio | D21: Yes | E21: Yes | F21: Yes
B22: 4 | C22: Interest Coverage Ratio | D22: Yes | E22: Yes | F22: No
A24: [D] | B24: PROFITABILITY RATIO
B25: 1 | C25: Gross Profit Ratio | D25: Yes | E25: Yes | F25: No
B26: 2 | C26: Net Profit Ratio | D26: Yes | E26: Yes | F26: Yes
B27: 3 | C27: Operating Profit Ratio | D27: Yes | E27: Yes | F27: No
B28: 4 | C28: Return on Investment (ROI) or Return on Capital Employed ( ROCE) | D28: Yes | E28: Yes | F28: No
B29: 5 | C29: Return on Equity (ROE) | D29: No | E29: Yes | F29: No
B30: 6 | C30: Return on Assets | D30: No | E30: Yes | F30: No
B31: 7 | C31: Cost of Goods Sold Ratio | D31: Yes | E31: No | F31: No
A33: [E] | B33: TURNOVER RATIO / ACTIVITY RATIO / VELOCITY RATIO
B34: 1 | C34: Finished Goods or Stock Turnover Ratio | D34: Yes | E34: Yes | F34: Yes
B35: 2 | C35: Raw Material Turnover Ratio | D35: Yes | E35: No | F35: No
B36: 3 | C36: Inventory Holding Period (Velocity Period) | D36: Yes | E36: No | F36: No
B37: 4 | C37: Debtor Turnover Ratio | D37: Yes | E37: Yes | F37: No
B38: 5 | C38: Debtors Collection Period | D38: Yes | E38: No | F38: No
B39: 6 | C39: Creditor Turnover Ratio | D39: Yes | E39: Yes | F39: No
B40: 7 | C40: Creditor Payment Period | D40: Yes | E40: No | F40: No
B41: 8 | C41: Working Capital Turnover Ratio | D41: Yes | E41: Yes | F41: No
B42: 9 | C42: Fixed Assets Turnover Ratio | D42: Yes | E42: Yes | F42: Yes
B43: 10 | C43: Capital Employed Turnover Ratio | D43: Yes | E43: Yes | F43: No
A45: [F] | B45: MARKET-TEST RATIO / FINANCIAL POSITION RATIO
B46: 1 | C46: Earning Per Share (EPS) | D46: Yes | E46: Yes | F46: Yes
B47: 2 | C47: Dividend Per Shaer (DPS) | D47: Yes | E47: Yes | F47: No
...

Sheet Input - 1
G3: Company Name: | H3: ABC Ltd.
G4: Period of Analysis: | H4: Q1
A6: Particulars | C6: Current Year | D6: Previous Year
A7: Share Capital | C7: =SUM(C11:C12) -> 400 | D7: =SUM(D11:D12) -> 400
B8: Equity share capital (issued and paid up) (enter number of shares) | C8: 100 | D8: 100
B9: Preference share capital (issued and paid up) (enter number of shares) | C9: 100 | D9: 100
B11: Equity Share Capital (Issued and Paid up) | C11: 200 | D11: 200
B12: Preference Share Capital (Issued and Paid up) | C12: 200 | D12: 200
B13: Market Price per Share | C13: 2 | D13: 2
A15: Reserves and Surplus | C15: =SUM(C16:C18) -> 9 | D15: =SUM(D16:D18) -> 9
B16: General Reserves | C16: 3 | D16: 3
B17: Accumulated Profits | C17: 3 | D17: 3
B18: Other reserves (available for shareholders) | C18: 3 | D18: 3
A20: Long Term Borrowings | C20: =SUM(C21:C24) -> 16 | D20: =SUM(D21:D24) -> 16
B21: Debentures / Bonds | C21: 4 | D21: 4
B22: Long Term Loans | C22: 4 | D22: 4
B23: Institutional Loans | C23: 4 | D23: 4
B24: Other long term borrowed funds | C24: 4 | D24: 4
A26: Current Liabilities
B27: Trade Payables (For Goods) | C27: =C29 -> 5 | D27: =D29 -> 5
B28: - Opening Balance | C28: 5 | D28: 5
B29: - Closing Balance | C29: 5 | D29: 5
B30: Bills Payable | C30: =C32 -> 5 | D30: =D32 -> 5
B31: - Opening Balance | C31: 5 | D31: 5
B32: - Closing Balance | C32: 5 | D32: 5
B33: Advance received | C33: 5 | D33: 5
B34: Provision for Expenses | C34: 5 | D34: 5
B35: Short term Borrowings | C35: 5 | D35: 5
B36: Bank Overdraft | C36: 5 | D36: 5
B37: Cash Credit | C37: 5 | D37: 5
B38: Provision for Taxation (net of Advance Tax) | C38: 5 | D38: 5
B39: Proposed or Unclaimed Dividend | C39: 5 | D39: 5
B40: Other Current Liabilities (if any) | C40: 5 | D40: 5
B41: Total Current Liabilities | C41: =SUM(C33:C40)+C30+C27 -> 50 | D41: =SUM(D33:D40)+D30+D27 -> 50
A43: Property, Plant and Equipment
B44: Gross Block (Including Intangible) | C44: 8 | D44: 8
B45: Less: Accumulated Depreciation and amortisation | C45: 2 | D45: 2
B46: Net Block (Including Intangible) | C46: 6 | D46: 6
A48: Investment
B49: Long Term Investment | C49: 7 | D49: 7
...

Sheet Input - 2
G2: Company Name: | H2: ='Input - 1'!H3:J3 -> ABC Ltd.
G3: Period of Analysis: | H3: ='Input - 1'!H4:J4 -> Q1
A5: Particulars | C5: Current Year | D5: Previous Year
A6: Profit and Loss Account items
B7: Income
B8: Closing Stock of Finished / Traded Goods | C8: 50 | D8: 30
B9: Closing Stock of Raw Material | C9: 40 | D9: 20
B10: Sales net of returns | C10: 120 | D10: 150
B11: Credit Sales | C11: 120 | D11: 120
B12: Other operating income | C12: 120 | D12: 150
B13: Non-operating income | C13: 120 | D13: 150
A14: Total Income (total of credit side of P&L A/c) (Please enter this figure manualy from P&L) | C14: 1000 | D14: 1200
B16: Expenses
B17: Opening Stock of Finished / Traded Goods | C17: 30 | D17: 60
B18: Opening Stock of Raw Material | C18: 20 | D18: 40
B19: Raw Material Consumed | C19: 80 | D19: 70
B20: Credit Purchase | C20: 70 | D20: 70
B21: Cost of Goods sold (cost of sales) | C21: 100 | D21: 90
B22: Interest on Borrowed funds or on debts | C22: 100 | D22: 90
B23: Depreciation | C23: 100 | D23: 90
B24: Other non-cash operating expenses / adjustments (if any) (e.g. written off items or like debits) | C24: 100 | D24: 90
B25: Provision for Tax | C25: 100 | D25: 90
B26: Total Non-operating Expenditures | C26: 100 | D26: 90
A27: Total Expenditure (total of debit side of P&L A/c) (Please enter this figure manualy from P&L) | C27: 800 | D27: 800
A29: Profits
B30: Gross Profit | C30: 500 | D30: 500
B31: Net Profit | C31: 300 | D31: 300
B32: Profit Before Tax and Interest (PBIT) | C32: =C31+C22 -> 400 | D32: =D31+D22 -> 390
B33: Profit After Tax (PAT or EAT) | C33: =C31-C25 -> 200 | D33: =D31-D25 -> 210
B34: Operating Profit = Net profit + Non operating expenses - Non operating Incomes | C34: =C31+C26-C13 -> 280 | D34: =D31+D26-D13 -> 240
A36: Distribution of Profit
B37: Dividend on Preference Shares (Enter total dividend) | C37: 100 | D37: 100
B38: Dividend on Equity Shares (Enter total dividend) | C38: 80 | D38: 80
A40: Other Items
B41: Principal amount of debt repaid during the year (Installment) | C41: 100 | D41: 100

Sheet Ratios Details
B5: No | C5: Ratio | D5: Formula | E5: Numerator | F5: Denominator
B6: 1 | C6: Current Ratio | D6: Current Assets Current Liabilities | E6: Inventories + Debtors + Cash & Bank + Receivables/Accruals + Short term Loans + Marketable Investments | F6: Sundry Creditors (For Goods) + Outstanding Expenses + Short Term Loans & advances + Bank Overdraft/ Cash Credit + Provision for Taxation + Proposed or Unclaimed Dividend
B7: 2 | C7: Quick Ratio or Acid test Ratio | D7: Quick Assets Quick Liabilities | E7: Current Assets Less: Inventories Less: Prepaid Expenses | F7: Current Liabilities Less: Bank Overdraft Less: Cash Credit
B8: 3 | C8: Absolute Cash Ratio | D8: Cash Reservoir Current Liabilities | E8: Cash In Hand + Balance at Bank + non-trade Marketable investments + Short Term investments | F8: Sundry Creditors (For Goods) + Outstanding Expenses + Short Term Loans & advances + Bank Overdraft/ Cash Credit + Provision for Taxation + Proposed or Unclaimed Dividend
B9: 4 | C9: Cash Position to total Assets Ratio | D9: Cash Reservoir Total Assets | E9: Cash In Hand + Balance at Bank + non-trade Marketable investments + Short Term investments | F9: Total Assets
B10: 5 | C10: Internal Cash Measure Ratio | D10: Cash Reservoir Cash Expenses per Day | E10: Cash In Hand + Balance at Bank + non-trade Marketable investments + Short Term investments | F10: Annual Cash Expenses 365 Cash expenses=Total expenses - Depreciation and write offs
B14: No | C14: Ratio | D14: Formula | E14: Numerator | F14: Denominator
B15: 1 | C15: Debt Equity Ratio | D15: Debt Equity | E15: Long term borrowed funds, i.e. Debentures, Long term loans from institutions | F15: Equity Share Capital + Preference Share Capital + Reserves and Surplus Less: Accumulated losses if any
B16: 2 | C16: Debt to Capital Employed Ratio | D16: Debt Capital Employed | E16: Long term borrowed funds, i.e. Debentures, Long term loans from institutions | F16: Equity Share Capital + Preference Share Capital + Reserves and Surplus Less: Accumulated losses if any + Debt (i.e. Numerator)
B17: 3 | C17: Proprietary / Equity Fund Ratio | D17: Proprietary Funds Total Assets | E17: Equity Share Capital + Preference Share Capital + Reserves & Surplus Less Accumulated Reserves | F17: Net Fixed Assets + Total Current Assets (Only tangible Assets will be included)
B18: 4 | C18: Capital Gearing Ratio | D18: Fixed Charge Bearing Capital Equity share holders Funds | E18: Preference Share Capital + Debentures + Long Term Loans | F18: Equity Share Capital + Reserves and Surplus Less: Accumulated Losses if any
B19: 5 | C19: Fixed Asset to Capital Employed | D19: Fixed Assets Capital Employed | E19: Net Fixed Assets i.e. Gross Block - Depreciation | F19: Equity Share Capital + Preference Share Capital + Reserves and Surplus Less: Accumulated losses if any + Long term borrowed funds, i.e. Debentures, Long term loans from institutions
B23: No | C23: Ratio | D23: Formula | E23: Numerator | F23: Denominator
B24: 1 | C24: Preference Dividend Coverage Ratio | D24: Earnings after Tax Preference Dividend | E24: EAT (or PAT) | F24: Dividend on Preference Share Capital
B25: 2 | C25: Equity Dividend Coverage Ratio | D25: Earnings after Tax Equity Dividend | E25: EAT (or PAT) | F25: Dividend on Equity Share Capital
B26: 3 | C26: Debt Service Coverage Ratio | D26: Earnings for Debt service (Interest + Installment) | E26: PBIT + Non Cash Operating expense + Non Operating Adjustments | F26: Interest on Debt + Installment of Debt (Principal Repaid)
B27: 4 | C27: Interest Coverage Ratio | D27: Earnings before Interest & Tax Interest | E27: EAT+Tax+ Interest on debt funds | F27: Interest on debt Fund
B31: No | C31: Ratio | D31: Formula | E31: Numerator | F31: Denominator
B32: 1 | C32: Gross Profit ratio | D32: Gross profit Sales | E32: Gross profit as per trading Account | F32: Sales net of returns
B33: 2 | C33: Net profit Ratio | D33: Net profit Sales | E33: Net profit | F33: Sales net of returns
B34: 3 | C34: Operating profit Ratio | D34: Operating profit Sales | E34: Net profit Add: Non operating expenses Less: Non operating Incomes | F34: Sales net of returns
B35: 4 | C35: Return On Investment (ROI) Or Return On Capital Employed (ROCE) | D35: Total Earnings Total capital Employed | E35: PBIT Add: Non operating Expenses net of non operating income | F35: Equity Share Capital + Preference share capital + Reserves & Surplus + Debentures and long term Loans Less: Accumulated Losses Less: Non trade Investments
B36: 5 | C36: Return on Equity or Return on Equity Shareholder's fund | D36: Earnings After Tax Shareholder's Fund | E36: EAT / PAT | F36: Total Share capital Less: Preference Share Capital Add: Reserves and Surplus Less: Accumulated Losses
B37: 6 | C37: Return On Assets | D37: Net Profit after Taxes Average Total Assets | E37: Net Profit After Taxes | F37: 1/2 of Opening and Closing Balance
B38: 7 | C38: Cost of Goods Sold Ratio | D38: Cost of goods sold Sales | E38: Opening Stock + Purchase + Direct Expenditures + Manufacturing Exp. - closing stock | F38: Sales net of returns
B42: No | C42: Ratio | D42: Formula | E42: Numerator | F42: Denominator
B43: 1 | C43: Finished Goods or Stock Turnover Ratio | D43: Cost of Goods Sold Average Stock | E43: Opening Stock + Purchase + Direct Expenditures + Manufacturing Exp. - closing stock | F43: Opening Stock +Closing Stock 2
B44: 2 | C44: Raw Material Turnover Ratio | D44: Raw Material Consumed Average stock of Raw material | E44: Materials + Wages+ Production OH | F44: Opening WIP+Closing WIP 2
B45: 3 | C45: Inventory Holding Period (Velocity Period) | D45: 365 Days Stock Turnover Ratio | E45: Either 365 days or 12 months or 52 weeks | F45: Finished goods Turnover Ratio or Raw material Turnover Ratio
B46: 4 | C46: Debtors Turnover Ratio | D46: Credit Sales Average Accounts receivable | E46: Credit Sales net of returns | F46: Accounts Receivable = Debtors+ Bills Receivable
B47: 5 | C47: Debtors Collection Period | D47: 365 Days Debtor turnover ratio | E47: Either 365 days or 12 months or 52 weeks | F47: Debtors turnover ratio as per above
B48: 6 | C48: Creditors Turnover Ratio | D48: Credit Purchases Average Accounts payable | E48: Credit Purchases Net of returns if any | F48: AP= Creditors+ BP Average AP= Opening Bal+Closing Bal 2
B49: 7 | C49: Creditors Payment Period | D49: 365 Days Creditors turnover ratio | E49: Either 365 days or 12 months or 52 weeks | F49: Creditors turnover ratio as per above
B50: 8 | C50: Working Capital Turnover Ratio | D50: Turnover Net Working Capital | E50: Sales Net of returns | F50: Current Assets Less Current liabilities
B51: 9 | C51: Fixed Asset Turnover Ratio | D51: Turnover Fixed Assets | E51: Sales Net of returns | F51: Net Fixed Assets
B52: 10 | C52: Capital employed Turnover Ratio | D52: Sales Capital Employed | E52: Sales net of returns | F52: Equity Share Capital + Preference Share Capital + Reserves and Surplus Less: Accumulated losses if any + Long term borrowed funds, i.e. Debentures, Long term loans from institutions
B56: No | C56: Ratio | D56: Formula | E56: Numerator | F56: Denominator
B57: 1 | C57: Earnings Per Share | D57: PAT - Preference Dividend Number of Equity Shares | E57: Profit After Taxes Less: Preference Dividend | F57: Total Number of Equity shares Outstanding
B58: 2 | C58: Dividend Per Share | D58: Dividend to Equity Shareholders Number of Equity Shares | E58: Profit distributed to equity share holders | F58: Total Number of Equity shares Outstanding
B59: 3 | C59: Dividend Pay-Out ratio | D59: Total Dividend PAT | E59: Equity Dividend + Preference Dividend | F59: Profit After Tax
...

Sheet Ratio Analysis
C1: Company Name: | D1: =VLOOKUP($C1,'Input - 2'!$G$2:$J$3,2,0) -> ABC Ltd. | H1: Denotes ratio not meeting standard ratio
C2: Period of Analysis: | D2: =VLOOKUP($C2,'Input - 2'!$G$2:$J$3,2,0) -> Q1 | H2: Standard ratio can be changed as per industry
B6: No | C6: Ratio | D6: Formula | E6: Standard Ratio | F6: Actual Ratio Current Year | G6: Actual Ratio Previous Year | H6: Analysis
B7: 1 | C7: Current Ratio | D7: Current Assets Current Liabilities | E7: 2 | F7: =IF(ISERROR('Ratios Calculation'!G6)=TRUE,"Please fill up data in Input sheets",IF('Ratios Calculation'!G6=0,"Please fill up data in Input sheets",'Ratios Calculation'!G6)) -> 1.6 | G7: =IF(ISERROR('Ratios Calculation'!H6)=TRUE,"Please fill up data in Input sheets",IF('Ratios Calculation'!H6=0,"Please fill up data in Input sheets",'Ratios Calculation'!H6)) -> 1.6 | H7: 1. From Creditor's Point of View higher ratio is the best. 2. Higher ratio is good for company to get credit facility. 3. Higher ratio indicates blockage of investment in Current Assets. 4. Lower ratio Indicates strict credit policy and maintenance of optimal stock
B8: 2 | C8: Quick Ratio or Acid test Ratio or Liquid Ratio | D8: Quick Assets Quick Liabilities | E8: 1.33 | F8: =IF(ISERROR('Ratios Calculation'!G7)=TRUE,"Please fill up data in Input sheets",IF('Ratios Calculation'!G7=0,"Please fill up data in Input sheets",'Ratios Calculation'!G7)) -> 1.6 | G8: =IF(ISERROR('Ratios Calculation'!H7)=TRUE,"Please fill up data in Input sheets",IF('Ratios Calculation'!H7=0,"Please fill up data in Input sheets",'Ratios Calculation'!H7)) -> 1.6 | H8: 1. Higher is the best for both creditors' and company's point of view. 2. Lower ratio indicates huge investment in inventories by the company.
B9: 3 | C9: Absolute Cash Ratio | D9: Cash Reservoir Current Liabilities | E9: 0.2 | F9: =IF(ISERROR('Ratios Calculation'!G8)=TRUE,"Please fill up data in Input sheets",IF('Ratios Calculation'!G8=0,"Please fill up data in Input sheets",'Ratios Calculation'!G8)) -> 0.6 | G9: =IF(ISERROR('Ratios Calculation'!H8)=TRUE,"Please fill up data in Input sheets",IF('Ratios Calculation'!H8=0,"Please fill up data in Input sheets",'Ratios Calculation'!H8)) -> 0.6 | H9: Indicates availability of cash to meet short term commitments.
B10: 4 | C10: Cash Position to total Assets Ratio | D10: Cash Reservoir Total Assets | E10: 0.1 | F10: =IF(ISERROR('Ratios Calculation'!G9)=TRUE,"Please fill up data in Input sheets",IF('Ratios Calculation'!G9=0,"Please fill up data in Input sheets",'Ratios Calculation'!G9)) -> 0.26315789 | G10: =IF(ISERROR('Ratios Calculation'!H9)=TRUE,"Please fill up data in Input sheets",IF('Ratios Calculation'!H9=0,"Please fill up data in Input sheets",'Ratios Calculation'!H9)) -> 0.26315789 | H10: Indicates cash position of the company.
B11: 5 | C11: Internal Cash Measure Ratio | D11: Cash Reservoir Cash Expenses per Day | E11: 10 | F11: =IF(ISERROR('Ratios Calculation'!G10)=TRUE,"Please fill up data in Input sheets",IF('Ratios Calculation'!G10=0,"Please fill up data in Input sheets",'Ratios Calculation'!G10)) -> 18.25 | G11: =IF(ISERROR('Ratios Calculation'!H10)=TRUE,"Please fill up data in Input sheets",IF('Ratios Calculation'!H10=0,"Please fill up data in Input sheets",'Ratios Calculation'!H10)) -> 17.66129 | H11: Ability to meet regular cash expenses.
B18: No | C18: Ratio | D18: Formula | E18: Standard Ratio | F18: Actual Ratio Current Year | G18: Actual Ratio Previous Year | H18: Interpretation
B19: 1 | C19: Debt Equity Ratio | D19: Debt Equity | E19: 2 | F19: =IF(ISERROR('Ratios Calculation'!G15)=TRUE,"Please fill up data in Input sheets",IF('Ratios Calculation'!G15=0,"Please fill up data in Input sheets",'Ratios Calculation'!G15)) -> 0.039702233 | G19: =IF(ISERROR('Ratios Calculation'!H15)=TRUE,"Please fill up data in Input sheets",IF('Ratios Calculation'!H15=0,"Please fill up data in Input sheets",'Ratios Calculation'!H15)) -> 0.039702233 | H19: 1. If company's Rate of return is higher than interest rate then higher ratio shall be the best. However lower ratio shall be the best if the company's rate of return is lower. 2. If the ratio is higher, it indicates that company is more dependent on out- sider funds. 3. If the ratio is lower and company's rate of return is higher than interest rate, then it indicates that the company is not taking benefit of trade on Equity.
B20: 2 | C20: Debt to Capital Employed Ratio | D20: Debt Capital Employed | E20: 2 | F20: =IF(ISERROR('Ratios Calculation'!G16)=TRUE,"Please fill up data in Input sheets",IF('Ratios Calculation'!G16=0,"Please fill up data in Input sheets",'Ratios Calculation'!G16)) -> 0.038186158 | G20: =IF(ISERROR('Ratios Calculation'!H16)=TRUE,"Please fill up data in Input sheets",IF('Ratios Calculation'!H16=0,"Please fill up data in Input sheets",'Ratios Calculation'!H16)) -> 0.038186158 | H20: 1. If company's Rate of return is higher than interest rate then higher ratio shall be the best. However lower ratio shall be the best if the company's rate of return is lower. 2. If the ratio is higher, it indicates that company is more dependent on out- sider funds. 3. If the ratio is lower and company's rate of return is higher than interest rate, then it indicates that the company is not taking benefit of trade on Equity.
B21: 3 | C21: Proprietary / Equity Fund Ratio | D21: Proprietary Funds Total Assets | E21: 3.15 | F21: =IF(ISERROR('Ratios Calculation'!G17)=TRUE,"Please fill up data in Input sheets",IF('Ratios Calculation'!G17=0,"Please fill up data in Input sheets",'Ratios Calculation'!G17)) -> 4.6860465 | G21: =IF(ISERROR('Ratios Calculation'!H17)=TRUE,"Please fill up data in Input sheets",IF('Ratios Calculation'!H17=0,"Please fill up data in Input sheets",'Ratios Calculation'!H17)) -> 4.6860465 | H21: 1. Shows extend of owners fund utilized in financing assets. 2. If major part of total assets is of current assets then lower ratio may not be the cause for liquidity problem. 3. If core (permanent) working capital is higher, higher ratio is the best. 4. If core (permanent) working capital is lower, ratio of 1:1 is good.
B22: 4 | C22: Capital Gearing Ratio | D22: Fixed Charge Bearing Capital Equity share holders Funds | E22: 1 | F22: =IF(ISERROR('Ratios Calculation'!G18)=TRUE,"Please fill up data in Input sheets",IF('Ratios Calculation'!G18=0,"Please fill up data in Input sheets",'Ratios Calculation'!G18)) -> 1.0640394 | G22: =IF(ISERROR('Ratios Calculation'!H18)=TRUE,"Please fill up data in Input sheets",IF('Ratios Calculation'!H18=0,"Please fill up data in Input sheets",'Ratios Calculation'!H18)) -> 1.0640394 | H22: 1. Shows Proportion of fixed charge (dividend or interest) bearing capital to equity funds, the extend of advantage or leverage enjoyed by equity shareholders. 2. If the rate of return on Capital Employed is higher than fixed charge bearing capital in capital structure, then the higher ratio shall be the best and vice versa.
B23: 5 | C23: Fixed Asset to Capital Employed | D23: Fixed Assets Capital Employed | E23: Less than 1 | F23: =IF(ISERROR('Ratios Calculation'!G19)=TRUE,"Please fill up data in Input sheets",IF('Ratios Calculation'!G19=0,"Please fill up data in Input sheets",'Ratios Calculation'!G19)) -> 0.014319809 | G23: =IF(ISERROR('Ratios Calculation'!H19)=TRUE,"Please fill up data in Input sheets",IF('Ratios Calculation'!H19=0,"Please fill up data in Input sheets",'Ratios Calculation'!H19)) -> 0.014319809 | H23: The ratio indicates proportion of total capital employed invested in fixed assets.
E24: =RIGHT(E23,LEN(E23)-10) -> 1
B30: No | C30: Ratio | D30: Formula | E30: Standard Ratio | F30: Actual Ratio Current Year | G30: Actual Ratio Previous Year | H30: Interpretation
B31: 1 | C31: Preference Dividend Coverage Ratio | D31: Earnings after Tax Preference Dividend | E31: 3 | F31: =IF(ISERROR('Ratios Calculation'!G24)=TRUE,"Please fill up data in Input sheets",IF('Ratios Calculation'!G24=0,"Please fill up data in Input sheets",'Ratios Calculation'!G24)) -> 2 | G31: =IF(ISERROR('Ratios Calculation'!H24)=TRUE,"Please fill up data in Input sheets",IF('Ratios Calculation'!H24=0,"Please fill up data in Input sheets",'Ratios Calculation'!H24)) -> 2.1 | H31: 1. Indicates ability to pay dividend on Preference share capital. 2. Higher shall be the best.
B32: 2 | C32: Equity Dividend Coverage Ratio | D32: Earnings after Tax Equity Dividend | E32: 3 | F32: =IF(ISERROR('Ratios Calculation'!G25)=TRUE,"Please fill up data in Input sheets",IF('Ratios Calculation'!G25=0,"Please fill up data in Input sheets",'Ratios Calculation'!G25)) -> 2.5 | G32: =IF(ISERROR('Ratios Calculation'!H25)=TRUE,"Please fill up data in Input sheets",IF('Ratios Calculation'!H25=0,"Please fill up data in Input sheets",'Ratios Calculation'!H25)) -> 2.625 | H32: 1. Indicates ability to pay dividend on Equity share capital. 2. Higher shall be the best.
B33: 3 | C33: Debt Service Coverage Ratio | D33: Earnings for Debt service (Interest + Installment) | E33: 3 times | F33: =IF(ISERROR('Ratios Calculation'!G26)=TRUE,"Please fill up data in Input sheets",IF('Ratios Calculation'!G26=0,"Please fill up data in Input sheets",'Ratios Calculation'!G26)) -> 3 | G33: =IF(ISERROR('Ratios Calculation'!H26)=TRUE,"Please fill up data in Input sheets",IF('Ratios Calculation'!H26=0,"Please fill up data in Input sheets",'Ratios Calculation'!H26)) -> 3 | H33: 1. Indicates extend of current earnings available for meeting commitments and outflow towards interest and installments. 2. Higher shall be the best
B34: 4 | C34: Interest Coverage Ratio | D34: Earnings before Interest & Tax Interest | E34: Greater than 1 | F34: =IF(ISERROR('Ratios Calculation'!G27)=TRUE,"Please fill up data in Input sheets",IF('Ratios Calculation'!G27=0,"Please fill up data in Input sheets",'Ratios Calculation'!G27)) -> 4 | G34: =IF(ISERROR('Ratios Calculation'!H27)=TRUE,"Please fill up data in Input sheets",IF('Ratios Calculation'!H27=0,"Please fill up data in Input sheets",'Ratios Calculation'!H27)) -> 4.3333333 | H34: 1. Indicates ability to meet interest obligations of the current year.
D35: =MID(E33,1,LEN(E33)-6) -> 3 | E35: =RIGHT(E34,LEN(E34)-13) -> 1
B41: No | C41: Ratio | D41: Formula | E41: Standard Ratio | F41: Actual Ratio Current Year | G41: Actual Ratio Previous Year | H41: Interpretation
B42: 1 | C42: Gross Profit ratio | D42: Gross profit Sales | E42: 0.25 | F42: =IF(ISERROR('Ratios Calculation'!G32)=TRUE,"Please fill up data in Input sheets",IF('Ratios Calculation'!G32=0,"Please fill up data in Input sheets",'Ratios Calculation'!G32)) -> 4.1666667 | G42: =IF(ISERROR('Ratios Calculation'!H32)=TRUE,"Please fill up data in Input sheets",IF('Ratios Calculation'!H32=0,"Please fill up data in Input sheets",'Ratios Calculation'!H32)) -> 3.3333333 | H42: 1. Higher shall be the best. Initial target of the company to match with industry standard. 2. This ratio indicates basic profitability
B43: 2 | C43: Net profit Ratio | D43: Net profit Sales | E43: 0.15 | F43: =IF(ISERROR('Ratios Calculation'!G33)=TRUE,"Please fill up data in Input sheets",IF('Ratios Calculation'!G33=0,"Please fill up data in Input sheets",'Ratios Calculation'!G33)) -> 2.5 | G43: =IF(ISERROR('Ratios Calculation'!H33)=TRUE,"Please fill up data in Input sheets",IF('Ratios Calculation'!H33=0,"Please fill up data in Input sheets",'Ratios Calculation'!H33)) -> 2 | H43: 1. Higher shall be the best. Initial target of the company to match with industry standard. 2. This ratio indicates overall profitability.
B44: 3 | C44: Operating profit Ratio | D44: Operating profit Sales | E44: 0.22 | F44: =IF(ISERROR('Ratios Calculation'!G34)=TRUE,"Please fill up data in Input sheets",IF('Ratios Calculation'!G34=0,"Please fill up data in Input sheets",'Ratios Calculation'!G34)) -> 2.3333333 | G44: =IF(ISERROR('Ratios Calculation'!H34)=TRUE,"Please fill up data in Input sheets",IF('Ratios Calculation'!H34=0,"Please fill up data in Input sheets",'Ratios Calculation'!H34)) -> 1.6 | H44: 1. Higher shall be the best. Initial target of the company to match with industry standard. 2. This ratio indicates management efficiency.
B45: 4 | C45: Return On Investment (ROI) Or Return On Capital Employed (ROCE) | D45: Total Earnings Total capital Employed | E45: 0.1 | F45: =IF(ISERROR('Ratios Calculation'!G35)=TRUE,"Please fill up data in Input sheets",IF('Ratios Calculation'!G35=0,"Please fill up data in Input sheets",'Ratios Calculation'!G35)) -> 0.90692124 | G45: =IF(ISERROR('Ratios Calculation'!H35)=TRUE,"Please fill up data in Input sheets",IF('Ratios Calculation'!H35=0,"Please fill up data in Input sheets",'Ratios Calculation'!H35)) -> 0.7875895 | H45: 1. Higher shall be the best. Initial target of the company to match with industry standard. 2. This ratio indicates the company's ability to earn return on funds invested. 3. Comparison of ROCE with rate of interest of debt leads to financial leverage. If ROCE > Interest rate, use of debt funds is justified
B46: 5 | C46: Return on Equity or Return on Equity Shareholder's fund | D46: Earnings After Tax Shareholder's Fund | E46: 0.12 | F46: =IF(ISERROR('Ratios Calculation'!G36)=TRUE,"Please fill up data in Input sheets",IF('Ratios Calculation'!G36=0,"Please fill up data in Input sheets",'Ratios Calculation'!G36)) -> 0.98522167 | G46: =IF(ISERROR('Ratios Calculation'!H36)=TRUE,"Please fill up data in Input sheets",IF('Ratios Calculation'!H36=0,"Please fill up data in Input sheets",'Ratios Calculation'!H36)) -> 1.0344828 | H46: 1. Higher shall be the best. Initial target of the company to match with industry standard. 2. This ratio indicates the company's ability to provide return to shareholders.
B47: 6 | C47: Return On Assets | D47: Net Profit after Taxes Average Total Assets | E47: 0.15 | F47: =IF(ISERROR('Ratios Calculation'!G37)=TRUE,"Please fill up data in Input sheets",IF('Ratios Calculation'!G37=0,"Please fill up data in Input sheets",'Ratios Calculation'!G37)) -> 1 | G47: =IF(ISERROR('Ratios Calculation'!H37)=TRUE,"Please fill up data in Input sheets",IF('Ratios Calculation'!H37=0,"Please fill up data in Input sheets",'Ratios Calculation'!H37)) -> 1.05 | H47: Net Income per rupee of average fixed assets
B48: 7 | C48: Cost of Goods Sold Ratio | D48: Cost of goods sold Sales | E48: 0.8 | F48: =IF(ISERROR('Ratios Calculation'!G38)=TRUE,"Please fill up data in Input sheets",IF('Ratios Calculation'!G38=0,"Please fill up data in Input sheets",'Ratios Calculation'!G38)) -> 0.83333333 | G48: =IF(ISERROR('Ratios Calculation'!H38)=TRUE,"Please fill up data in Input sheets",IF('Ratios Calculation'!H38=0,"Please fill up data in Input sheets",'Ratios Calculation'!H38)) -> 0.6 | H48: Indicates ratio of cost of sales
B55: No | C55: Ratio | D55: Formula | E55: Standard Ratio | F55: Actual Ratio Current Year | G55: Actual Ratio Previous Year | H55: Interpretation
B56: 1 | C56: Finished Goods or Stock Turnover Ratio | D56: Cost of Goods Sold Average Stock | E56: 3 | F56: =IF(ISERROR('Ratios Calculation'!G43)=TRUE,"Please fill up data in Input sheets",IF('Ratios Calculation'!G43=0,"Please fill up data in Input sheets",'Ratios Calculation'!G43)) -> 2.5 | G56: =IF(ISERROR('Ratios Calculation'!H43)=TRUE,"Please fill up data in Input sheets",IF('Ratios Calculation'!H43=0,"Please fill up data in Input sheets",'Ratios Calculation'!H43)) -> 2 | H56: 1. Lower ratio indicates maintaining excess stock or inclusion of outdated / slow moving items in the stock. 2. Higher ratio indicates that the company's Purchase and Sales department works efficiently
B57: 2 | C57: Raw Material Turnover Ratio | D57: Raw Material Consumed Average stock of Raw material | E57: 6 | F57: =IF(ISERROR('Ratios Calculation'!G44)=TRUE,"Please fill up data in Input sheets",IF('Ratios Calculation'!G44=0,"Please fill up data in Input sheets",'Ratios Calculation'!G44)) -> 2.6666667 | G57: =IF(ISERROR('Ratios Calculation'!H44)=TRUE,"Please fill up data in Input sheets",IF('Ratios Calculation'!H44=0,"Please fill up data in Input sheets",'Ratios Calculation'!H44)) -> 2.3333333 | H57: 1. Lower ratio indicates the efficiency level of purchase department or it indicates that company is maintaining stock lower than its normal requirements.
B58: 3 | C58: Inventory Holding Period (Velocity Period) | D58: 365 Days Stock Turnover Ratio | E58: 150 | F58: =IF(ISERROR('Ratios Calculation'!G45)=TRUE,"Please fill up data in Input sheets",IF('Ratios Calculation'!G45=0,"Please fill up data in Input sheets",'Ratios Calculation'!G45)) -> 146 | G58: =IF(ISERROR('Ratios Calculation'!H45)=TRUE,"Please fill up data in Input sheets",IF('Ratios Calculation'!H45=0,"Please fill up data in Input sheets",'Ratios Calculation'!H45)) -> 182.5 | H58: Same as Above
B59: 4 | C59: Debtors Turnover Ratio | D59: Credit Sales Average Accounts receivable | E59: 6 | F59: =IF(ISERROR('Ratios Calculation'!G46)=TRUE,"Please fill up data in Input sheets",IF('Ratios Calculation'!G46=0,"Please fill up data in Input sheets",'Ratios Calculation'!G46)) -> 7.5 | G59: =IF(ISERROR('Ratios Calculation'!H46)=TRUE,"Please fill up data in Input sheets",IF('Ratios Calculation'!H46=0,"Please fill up data in Input sheets",'Ratios Calculation'!H46)) -> 7.5 | H59: 1. Higher indicates efficiency of credit division or it indicates that the company is offering attractive credit / discount policy. 2. Lower ratio indicates that company needs to review its credit policy for its customers.
B60: 5 | C60: Debtors Collection Period | D60: 365 Days Debtor turnover ratio | E60: 40 | F60: =IF(ISERROR('Ratios Calculation'!G47)=TRUE,"Please fill up data in Input sheets",IF('Ratios Calculation'!G47=0,"Please fill up data in Input sheets",'Ratios Calculation'!G47)) -> 48.666667 | G60: =IF(ISERROR('Ratios Calculation'!H47)=TRUE,"Please fill up data in Input sheets",IF('Ratios Calculation'!H47=0,"Please fill up data in Input sheets",'Ratios Calculation'!H47)) -> 48.666667 | H60: 1. Lower period indicates efficiency of credit division or it indicates that the company is offering attractive credit / discount policy. 2. Higher period indicates that company needs to review its credit policy for its customers.
B61: 6 | C61: Creditors Turnover Ratio | D61: Credit Purchases Average Accounts payable | E61: 5 | F61: =IF(ISERROR('Ratios Calculation'!G48)=TRUE,"Please fill up data in Input sheets",IF('Ratios Calculation'!G48=0,"Please fill up data in Input sheets",'Ratios Calculation'!G48)) -> 7 | G61: =IF(ISERROR('Ratios Calculation'!H48)=TRUE,"Please fill up data in Input sheets",IF('Ratios Calculation'!H48=0,"Please fill up data in Input sheets",'Ratios Calculation'!H48)) -> 7 | H61: 1. Lower ratio Indicates company's higher creditworthiness and company is utilizing interest free investment from Creditors or it indicates that the company is not availing discount offers by the suppliers or the liquidity of the company is not good. 2. Higher ratio indicates that the company uses discount offer optimally or it is new in the market
B62: 7 | C62: Creditors Payment Period | D62: 365 Days Creditors turnover ratio | E62: 40 | F62: =IF(ISERROR('Ratios Calculation'!G49)=TRUE,"Please fill up data in Input sheets",IF('Ratios Calculation'!G49=0,"Please fill up data in Input sheets",'Ratios Calculation'!G49)) -> 52.142857 | G62: =IF(ISERROR('Ratios Calculation'!H49)=TRUE,"Please fill up data in Input sheets",IF('Ratios Calculation'!H49=0,"Please fill up data in Input sheets",'Ratios Calculation'!H49)) -> 52.142857 | H62: 1. Higher ratio Indicates company's higher creditworthiness and company is utilizing interest free investment from Creditors or it indicates that the company is not availing discount offers by the suppliers or the liquidity of the company is not good. 2. Lower ratio indicates that the company uses discount offer optimally or it is new in the market
B63: 8 | C63: Working Capital Turnover Ratio | D63: Turnover Net Working Capital | E63: 3 | F63: =IF(ISERROR('Ratios Calculation'!G50)=TRUE,"Please fill up data in Input sheets",IF('Ratios Calculation'!G50=0,"Please fill up data in Input sheets",'Ratios Calculation'!G50)) -> 4 | G63: =IF(ISERROR('Ratios Calculation'!H50)=TRUE,"Please fill up data in Input sheets",IF('Ratios Calculation'!H50=0,"Please fill up data in Input sheets",'Ratios Calculation'!H50)) -> 5 | H63: Indicates working capital cycle
B64: 9 | C64: Fixed Asset Turnover Ratio | D64: Turnover Fixed Assets | E64: 2 | F64: =IF(ISERROR('Ratios Calculation'!G51)=TRUE,"Please fill up data in Input sheets",IF('Ratios Calculation'!G51=0,"Please fill up data in Input sheets",'Ratios Calculation'!G51)) -> 20 | G64: =IF(ISERROR('Ratios Calculation'!H51)=TRUE,"Please fill up data in Input sheets",IF('Ratios Calculation'!H51=0,"Please fill up data in Input sheets",'Ratios Calculation'!H51)) -> 25 | H64: Indicates ability of the company to generate sales per rupee of Fixed Asset 1. Higher ratio indicates optimal use of assets. 2. Lower ratio indicates that company has idle assets or unused assets
B65: 10 | C65: Capital employed Turnover Ratio | D65: Sales Capital Employed | E65: 0.25 | F65: =IF(ISERROR('Ratios Calculation'!G52)=TRUE,"Please fill up data in Input sheets",IF('Ratios Calculation'!G52=0,"Please fill up data in Input sheets",'Ratios Calculation'!G52)) -> 0.28639618 | G65: =IF(ISERROR('Ratios Calculation'!H52)=TRUE,"Please fill up data in Input sheets",IF('Ratios Calculation'!H52=0,"Please fill up data in Input sheets",'Ratios Calculation'!H52)) -> 0.35799523 | H65: Indicates ability of company to generate sales per rupee of long term investment. The higher the turnover, better the ratio is.
...

Sheet Ratios Calculation
B5: No | C5: Ratio | D5: Formula | E5: Numerator | F5: Denominator | G5: ='Input - 1'!C6 -> Current Year | H5: ='Input - 1'!D6 -> Previous Year
B6: 1 | C6: Current Ratio | D6: Current Assets Current Liabilities | E6: Inventories + Debtors + Cash & Bank + Receivables/Accruals + Short term Loans + Marketable Investments | F6: Sundry Creditors (For Goods) + Outstanding Expenses + Short Term Loans & advances + Bank Overdraft/ Cash Credit + Provision for Taxation + Proposed or Unclaimed Dividend | G6: ='Input - 1'!C69/'Input - 1'!C41 -> 1.6 | H6: ='Input - 1'!D69/'Input - 1'!D41 -> 1.6
B7: 2 | C7: Quick Ratio or Acid test Ratio | D7: Quick Assets Quick Liabilities | E7: Current Assets Less: Inventories Less: Prepaid Expenses | F7: Current Liabilities Less: Bank Overdraft Less: Cash Credit | G7: =('Input - 1'!C69-'Input - 1'!C55-'Input - 1'!C62)/('Input - 1'!C41-'Input - 1'!C36-'Input - 1'!C37) -> 1.6 | H7: =('Input - 1'!D69-'Input - 1'!D55-'Input - 1'!D62)/('Input - 1'!D41-'Input - 1'!D36-'Input - 1'!D37) -> 1.6
B8: 3 | C8: Absolute Cash Ratio | D8: Cash Reservoir Current Liabilities | E8: Cash In Hand + Balance at Bank + non-trade Marketable investments + Short Term investments | F8: Sundry Creditors (For Goods) + Outstanding Expenses + Short Term Loans & advances + Bank Overdraft/ Cash Credit + Provision for Taxation + Proposed or Unclaimed Dividend | G8: =('Input - 1'!C64+'Input - 1'!C65+'Input - 1'!C50+'Input - 1'!C51)/('Input - 1'!C41) -> 0.6 | H8: =('Input - 1'!D64+'Input - 1'!D65+'Input - 1'!D50+'Input - 1'!D51)/('Input - 1'!D41) -> 0.6
B9: 4 | C9: Cash Position to total Assets Ratio | D9: Cash Reservoir Total Assets | E9: Cash In Hand + Balance at Bank + non-trade Marketable investments + Short Term investments | F9: Total Assets | G9: =('Input - 1'!C64+'Input - 1'!C65+'Input - 1'!C50+'Input - 1'!C51)/'Input - 1'!C79 -> 0.26315789 | H9: =('Input - 1'!D64+'Input - 1'!D65+'Input - 1'!D50+'Input - 1'!D51)/'Input - 1'!D79 -> 0.26315789
B10: 5 | C10: Internal Cash Measure Ratio | D10: Cash Reservoir Cash Expenses per Day | E10: Cash In Hand + Balance at Bank + non-trade Marketable investments + Short Term investments | F10: Annual Cash Expenses 365 Cash expenses=Total expenses - Depreciation and write offs | G10: =('Input - 1'!C64+'Input - 1'!C65+'Input - 1'!C50+'Input - 1'!C51)/(('Input - 2'!C27-'Input - 2'!C24-'Input - 2'!C23)/365) -> 18.25 | H10: =('Input - 1'!D64+'Input - 1'!D65+'Input - 1'!D50+'Input - 1'!D51)/(('Input - 2'!D27-'Input - 2'!D24-'Input - 2'!D23)/365) -> 17.66129
B14: No | C14: Ratio | D14: Formula | E14: Numerator | F14: Denominator | G14: =G5 -> Current Year | H14: =H5 -> Previous Year
B15: 1 | C15: Debt Equity Ratio | D15: Debt Equity | E15: Long term borrowed funds, i.e. Debentures, Long term loans from institutions | F15: Equity Share Capital + Preference Share Capital + Reserves and Surplus Less: Accumulated losses if any | G15: =('Input - 1'!C20)/('Input - 1'!C7+'Input - 1'!C15-'Input - 1'!C72) -> 0.039702233 | H15: =('Input - 1'!D20)/(('Input - 1'!D7+'Input - 1'!D15-'Input - 1'!D72)) -> 0.039702233
B16: 2 | C16: Debt to Captial Employed Ratio | D16: Debt Capital Employed | E16: Long term borrowed funds, i.e. Debentures, Long term loans from institutions | F16: Equity Share Capital + Preference Share Capital + Reserves and Surplus Less: Accumulated losses if any + Debt (i.e. Numerator) | G16: =('Input - 1'!C20)/(('Input - 1'!C7+'Input - 1'!C15-'Input - 1'!C72)+('Input - 1'!C20)) -> 0.038186158 | H16: =('Input - 1'!D20)/(('Input - 1'!D7+'Input - 1'!D15-'Input - 1'!D72)+('Input - 1'!D20)) -> 0.038186158
B17: 3 | C17: Proprietary / Equity Fund Ratio | D17: Proprietary Funds Total Assets | E17: Equity Share Capital + Preference Share Capital + Reserves & Surplus Less Accumulated Reserves | F17: Net Fixed Assets + Total Current Assets (Only tangible Assets will be included) | G17: =('Input - 1'!C7+'Input - 1'!C15-'Input - 1'!C72)/('Input - 1'!C46+'Input - 1'!C69) -> 4.6860465 | H17: =('Input - 1'!D7+'Input - 1'!D15-'Input - 1'!D72)/('Input - 1'!D46+'Input - 1'!D69) -> 4.6860465
B18: 4 | C18: Capital Gearing Ratio | D18: Fixed Charge Bearing Capital Equity share holders Funds | E18: Preference Share Capital + Debentures + Long Term Loans | F18: Equity Share Capital + Reserves and Surplus Less: Accumulated Losses if any | G18: =('Input - 1'!C12+'Input - 1'!C20)/('Input - 1'!C11+'Input - 1'!C15-'Input - 1'!C72) -> 1.0640394 | H18: =('Input - 1'!D12+'Input - 1'!D20)/('Input - 1'!D11+'Input - 1'!D15-'Input - 1'!D72) -> 1.0640394
B19: 5 | C19: Fixed Asset to Capital Employed | D19: Fixed Assets Capital Employed | E19: Net Fixed Assets i.e. Gross Block - Depreciation | F19: Equity Share Capital + Preference Share Capital + Reserves and Surplus Less: Accumulated losses if any + Long term borrowed funds, i.e. Debentures, Long term loans from institutions | G19: =('Input - 1'!C46)/(('Input - 1'!C7+'Input - 1'!C15-'Input - 1'!C72)+('Input - 1'!C20)) -> 0.014319809 | H19: =('Input - 1'!D46)/(('Input - 1'!D7+'Input - 1'!D15-'Input - 1'!D72)+('Input - 1'!D20)) -> 0.014319809
B23: No | C23: Ratio | D23: Formula | E23: Numerator | F23: Denominator | G23: =G5 -> Current Year | H23: =H5 -> Previous Year
B24: 1 | C24: Preference Dividend Coverage Ratio | D24: Earnings after Tax Preference Dividend | E24: EAT (or PAT) | F24: Dividend on Preference Share Capital | G24: ='Input - 2'!C33/'Input - 2'!C37 -> 2 | H24: ='Input - 2'!D33/'Input - 2'!D37 -> 2.1
B25: 2 | C25: Equity Dividend Coverage Ratio | D25: Earnings after Tax Equity Dividend | E25: EAT (or PAT) | F25: Dividend on Equity Share Capital | G25: ='Input - 2'!C33/'Input - 2'!C38 -> 2.5 | H25: ='Input - 2'!D33/'Input - 2'!D38 -> 2.625
B26: 3 | C26: Debt Service Coverage Ratio | D26: Earnings for Debt service (Interest + Installment) | E26: PBIT + Non Cash Operating expense + Non Operating Adjustments | F26: Interest on Debt + Installment of Debt (Principal Repaid) | G26: =('Input - 2'!C32+'Input - 2'!C23+'Input - 2'!C24)/('Input - 2'!C22+'Input - 2'!C41) -> 3 | H26: =('Input - 2'!D32+'Input - 2'!D23+'Input - 2'!D24)/('Input - 2'!D22+'Input - 2'!D41) -> 3
B27: 4 | C27: Interest Coverage Ratio | D27: Earnings before Interest & Tax Interest | E27: EAT+Tax+ Interest on debt funds (PBIT) | F27: Interest on debt Fund | G27: ='Input - 2'!C32/'Input - 2'!C22 -> 4 | H27: ='Input - 2'!D32/'Input - 2'!D22 -> 4.3333333
B31: No | C31: Ratio | D31: Formula | E31: Numerator | F31: Denominator | G31: =G5 -> Current Year | H31: =H5 -> Previous Year
B32: 1 | C32: Gross Profit ratio | D32: Gross profit Sales | E32: Gross profit as per trading Account | F32: Sales net of returns | G32: ='Input - 2'!C30/'Input - 2'!C10 -> 4.1666667 | H32: ='Input - 2'!D30/'Input - 2'!D10 -> 3.3333333
B33: 2 | C33: Net profit Ratio | D33: Net profit Sales | E33: Net profit | F33: Sales net of returns | G33: ='Input - 2'!C31/'Input - 2'!C10 -> 2.5 | H33: ='Input - 2'!D31/'Input - 2'!D10 -> 2
B34: 3 | C34: Operating profit Ratio | D34: Operating profit Sales | E34: Net profit Add: Non operating expenses Less: Non operating Incomes | F34: Sales net of returns | G34: ='Input - 2'!C34/'Input - 2'!C10 -> 2.3333333 | H34: ='Input - 2'!D34/'Input - 2'!D10 -> 1.6
B35: 4 | C35: Return On Investment (ROI) Or Return On Capital Employed (ROCE) | D35: Total Earnings Total capital Employed | E35: PBIT Add: Non operating Expenses net of non operating income | F35: Equity Share Capital + Prefence share capital + Reserves & Surplus + Debentures and long term Loans Less: Accumulated Losses Less: Non trade Investments | G35: =('Input - 2'!C32+'Input - 2'!C26-'Input - 2'!C13)/(('Input - 1'!C7+'Input - 1'!C15-'Input - 1'!C72)+('Input - 1'!C20)) -> 0.90692124 | H35: =('Input - 2'!D32+'Input - 2'!D26-'Input - 2'!D13)/(('Input - 1'!D7+'Input - 1'!D15-'Input - 1'!D72)+('Input - 1'!D20)) -> 0.7875895
B36: 5 | C36: Return on Equity or Return on Equity Shareholder's fund | D36: Earnings After Tax Shareholder's Fund | E36: EAT / PAT | F36: Total Share capital Less: Preference Share Capital Add: Reserves and Surplus Less: Accumulated Losses | G36: =('Input - 2'!C33)/('Input - 1'!C11+'Input - 1'!C15-'Input - 1'!C72) -> 0.98522167 | H36: =('Input - 2'!D33)/('Input - 1'!D11+'Input - 1'!D15-'Input - 1'!D72) -> 1.0344828
B37: 6 | C37: Return On Assets | D37: Net Profit after Taxes Average Total Assets | E37: Net Profit After Taxes | F37: 1/2 of Opening and Closing Balance | G37: ='Input - 2'!C33/'Input - 1'!C77 -> 1 | H37: ='Input - 2'!D33/'Input - 1'!D77 -> 1.05
B38: 7 | C38: Cost of Goods Sold Ratio | D38: Cost of goods sold Sales | E38: Opening Stock + Purchase + Direct Expenditures + Manufacturing Exp. - closing stock | F38: Sales net of returns | G38: ='Input - 2'!C21/'Input - 2'!C10 -> 0.83333333 | H38: ='Input - 2'!D21/'Input - 2'!D10 -> 0.6
B42: No | C42: Ratio | D42: Formula | E42: Numerator | F42: Denominator | G42: =G5 -> Current Year | H42: =H5 -> Previous Year
B43: 1 | C43: Finished Goods or Stock Turnover Ratio | D43: Cost of Goods Sold Average Stock | E43: Opening Stock + Purchase + Direct Expenditures + Manufacturing Exp. - closing stock | F43: Opening Stock + Closing Stock 2 | G43: =('Input - 2'!C21)/(('Input - 2'!C8+'Input - 2'!C17)/2) -> 2.5 | H43: =('Input - 2'!D21)/(('Input - 2'!D8+'Input - 2'!D17)/2) -> 2
B44: 2 | C44: Raw Material Turnover Ratio | D44: Raw Material Consumed Average stock of Raw material | E44: Materials + Wages+ Production OH | F44: Opening Stock + Closing Stock 2 | G44: ='Input - 2'!C19/(('Input - 2'!C18+'Input - 2'!C9)/2) -> 2.6666667 | H44: ='Input - 2'!D19/(('Input - 2'!D18+'Input - 2'!D9)/2) -> 2.3333333
B45: 3 | C45: Invetory Holding Period (Velocity Period) | D45: 365 Days Stock Turnover Ratio | E45: Either 365 days or 12 months or 52 weeks | F45: Finished goods Turnover Ratio or Raw material Turnover Ratio | G45: =365/G43 -> 146 | H45: =365/H43 -> 182.5
B46: 4 | C46: Debtors Turnover Ratio | D46: Credit Sales Average Accounts receivable | E46: Credit Sales net of returns | F46: Accounts Receivable = Debtors+ Bills Receivable | G46: =('Input - 2'!C11)/((('Input - 1'!C57+'Input - 1'!C60)+('Input - 1'!C58+'Input - 1'!C61))/2) -> 7.5 | H46: =('Input - 2'!D11)/((('Input - 1'!D57+'Input - 1'!D60)+('Input - 1'!D58+'Input - 1'!D61))/2) -> 7.5
B47: 5 | C47: Debtors Collection Period | D47: 365 Days Debtor turnover ratio | E47: Either 365 days or 12 months or 52 weeks | F47: Debtors trunover ratio as per above | G47: =365/G46 -> 48.666667 | H47: =365/H46 -> 48.666667
B48: 6 | C48: Creditors Turnover Ratio | D48: Credit Purchases Average Accounts payable | E48: Credit Purchases Net of returns if any | F48: AP= Creditors+ BP Average AP= Opening Bal+Closing Bal 2 | G48: =('Input - 2'!C20)/((('Input - 1'!C28+'Input - 1'!C31)+('Input - 1'!C29+'Input - 1'!C32))/2) -> 7 | H48: =('Input - 2'!D20)/((('Input - 1'!D28+'Input - 1'!D31)+('Input - 1'!D29+'Input - 1'!D32))/2) -> 7
B49: 7 | C49: Creditors Payment Period | D49: 365 Days Creditors turnover ratio | E49: Either 365 days or 12 months or 52 weeks | F49: Creditors trunover ratio as per above | G49: =365/G48 -> 52.142857 | H49: =365/H48 -> 52.142857
B50: 8 | C50: Working Capital Turnover Ratio | D50: Turnover Net Working Capital | E50: Sales Net of returns | F50: Current Assets Less Current liabilities | G50: =('Input - 2'!C10)/('Input - 1'!C69-'Input - 1'!C41) -> 4 | H50: =('Input - 2'!D10)/('Input - 1'!D69-'Input - 1'!D41) -> 5
B51: 9 | C51: Fixed Asset Turnover Ratio | D51: Turnover Fixed Assets | E51: Sales Net of returns | F51: Net Fixed Assets | G51: ='Input - 2'!C10/'Input - 1'!C46 -> 20 | H51: ='Input - 2'!D10/'Input - 1'!D46 -> 25
B52: 10 | C52: Capital employed Turnover Ratio | D52: Sales Capital Employed | E52: Sales net of returns | F52: Equity Share Capital + Preference Share Capital + Reserves and Surplus Less: Accumulated losses if any + Long term borrowed funds, i.e. Debentures, Long term loans from institutions | G52: ='Input - 2'!C10/(('Input - 1'!C7+'Input - 1'!C15-'Input - 1'!C72)+('Input - 1'!C20)) -> 0.28639618 | H52: ='Input - 2'!D10/(('Input - 1'!D7+'Input - 1'!D15-'Input - 1'!D72)+('Input - 1'!D20)) -> 0.35799523
B56: No | C56: Ratio | D56: Formula | E56: Numerator | F56: Denominator | G56: =G5 -> Current Year | H56: =H5 -> Previous Year
B57: 1 | C57: Earnings Per Share | D57: PAT - Preference Dividend Number of Equity Shares | E57: Profit After Taxes Less: Preference Dividend | F57: Total Number of Equity shares Outstanding | G57: =('Input - 2'!C33-'Input - 2'!C37)/'Input - 1'!C8 -> 1 | H57: =('Input - 2'!D33-'Input - 2'!D37)/'Input - 1'!D8 -> 1.1
B58: 2 | C58: Dividend Per Share | D58: Dividend to Equity Shareholders Number of Equity Shares | E58: Profit distributed to equity share holders | F58: Total Number of Equity shares Outstanding | G58: ='Input - 2'!C38/'Input - 1'!C8 -> 0.8 | H58: ='Input - 2'!D38/'Input - 1'!D8 -> 0.8
B59: 3 | C59: Dividend Pay-Out ratio | D59: Total Dividend PAT | E59: Equity Dividend + Preference Dividend | F59: Profit After Tax | G59: =('Input - 2'!C37+'Input - 2'!C38)/'Input - 2'!C33 -> 0.9 | H59: =('Input - 2'!D37+'Input - 2'!D38)/'Input - 2'!D33 -> 0.85714286
...
