Workbook

Sheet Compliance Checklist
A1: Compliance Checklist
A2: Sr. No. | B2: Particulars | N2: Replies | Q2: Yes
A3: 1 | B3: Whether company has passed a resolution in general meeting for accepting the deposits and also have taken approval of RBI? | Q3: No
A4: 2 | B4: Whether company has fulfilled the following conditions before accepting the deposits :‐
B5: (a) | C5: issued a circular to its members including therein a statement showing the:
C6: (i) Financial position of the company
C7: (ii) Credit rating obtained
C8: (iii) Total number of depositors
C9: (iv) Amount due towards deposits in respect of any previous deposits
B10: (b) | C10: filed a copy of circular along with statement with the registrar within 30 days before the date of issue of the circular;
B11: (c) | C11: certified that it has not committed any default in repayment of deposits accepted or payment of interest on such deposits
A12: 3 | B12: Whether company has repaid every deposit with interest without violating the terms & conditions of the deposit agreement.
A13: 4 | B13: Whether company has used the deposit repayment reserve account for any purpose other than repayment of deposits.
A14: 5 | B14: Whether while fulfilling the short term requirements of less than 6 months, company has accepted deposits which
B15: (a) | C15: shall not be more than 10% of aggregate of paid up share capital and free reserve and security premium account, and
B16: (b) | C16: such deposits are repayable after 3 months from the date of deposits
A17: 6 | B17: Ensure that eligible company has not accepted deposit in joint name exceeding three joint depositors.
A18: 7 | B18: (a) | C18: Ensure that eligible company has not accepted deposits from its members if the amount of such deposits together with the amount of deposits outstanding as on the date of acceptance of such deposits from members exceeds 10% of the aggregate of the paid up share capital, free reserves and security premium account of the company.
B21: (b) | C21: Ensure that eligible company has not accepted deposits from its members if the amount of such deposits together with the amount of other deposits outstanding as on the date of acceptance of such deposits exceeds 25% of the aggregate of the paid up share capital, free reserves and security premium account of the company.
A24: 8 | B24: Whether eligible company has issued a circular to all its members in FORM DPT ‐1 for inviting deposits
A25: 9 | B25: Whether eligible company has also advertised the above mentioned circular in an English newspaper and in a vernacular newspaper having wide circulation in the state in which registered office of the company is situated.
A27: 10 | B27: Ensure that a company having a website must also upload this circular on its website.
A28: 11 | B28: Whether company has maintained a security by way of a charge on its assets for the due repayment of the amount of deposits and interest thereon
A30: 12 | B30: Whether company has appointed one or more deposit trustee for creating security for deposits
A31: 13 | B31: Whether company has provided a security by way of charge on its assets for the due repayment of the amount of deposits or not.
A32: 14 | B32: Whether company has executed a deposit trust deed in FORM DPT‐2 at least seven days before issuing the circular
A33: 15 | B33: Ensure that amount remaining deposited under deposit repayment reserve account, shall not at any time fall below 20% of the amount of deposits maturing until the end of current financial year and the next financial year.
A35: 16 | B35: Whether company has maintained a register of deposits and entered therein all necessary particulars of each depositor or not.
A36: 17 | B36: Whether company on or before of the 30th day of June, of every year, filed a return of deposits in form DPT ‐3 with the registrar or not.
A38: Also refer the Companies Act, 2013 for relevant Sections and Rules through following link:
A39: http://ebook.mca.gov.in/Default.aspx?page=main
A40: http://ebook.mca.gov.in/Default.aspx?page=rules

Sheet List of Deposits 
A1: DPT 3 Checklist
A2: Name of the Client:
A3: For the financial year:
A4: (A) Particulars of receipt of money or loan by a company during the financial year: | G4: All amount in ₹
A5: Particulars | F5: Nature | G5: Opening balance | H5: During the year | K5: Closing Balance | L5: Secured / Unsecured
H6: Accepted | I6: Renewed | J6: Repaid
A7: (a) | B7: From Members of the Company (if within the limits prescribed u/s 73(2) of the Companies Act, 2013) | F7: Exempt | K7: =G7+H7-J7 -> 0
B8: From Members of the Company (if NOT within the limits prescribed u/s 73(2) of the Companies Act, 2013) | F8: Non Exempt | K8: =G8+H8-J8 -> 0
A9: (b) | B9: From Public (if within the limits prescribed u/s 76 of the Companies Act, 2013) | F9: Exempt | G9: 5 | H9: 4 | I9: 3 | J9: 2 | K9: =G9+H9-J9 -> 7
B10: From Public (if NOT within the limits prescribed u/s 76 of the Companies Act, 2013) | F10: Non Exempt | K10: =G10+H10-J10 -> 0
A11: Total | G11: =SUM(G7:G10) -> 5 | H11: =SUM(H7:H10) -> 4 | I11: =SUM(I7:I10) -> 3 | J11: =SUM(J7:J10) -> 2 | K11: =SUM(K7:K10) -> 7
A13: (B) Particulars of receipt of money or loan by a company in terms of Rule 2(1)(c) of the Companies (Acceptance of Deposits) Rules, 2014:
A14: Particulars | F14: Nature | G14: Opening balance | H14: During the year | K14: Closing Balance | L14: Secured / Unsecured
H15: Accepted | I15: Renewed | J15: Repaid
A16: (i) | B16: Any amount received from Central / State Government / local authority / statutory authority constituted under an Act of Parliament or a State Legislature; or any amount whose repayment is guaranteed by the Central Government or State Government. | F16: Exempt | K16: =G16+H16-J16 -> 0
A17: (ii) | B17: Any amount received from Foreign Governments / Foreign or international banks / Multilateral financial institutions / Foreign collaborators / Foreign body corporates / Foreign citizens / Persons residents outside India subject to the provisions of Foreign Exchange Management Act, 1999, etc. | F17: Exempt | K17: =G17+H17-J17 -> 0
A18: (iii) | B18: Any amount received as loan from any banking company or a co-operative bank. | F18: Exempt | K18: =G18+H18-J18 -> 0
A19: (iv) | B19: Any amount received as loan or financial assistance from public / regional financial institutions/ insurance companies or scheduled banks. | F19: Exempt | K19: =G19+H19-J19 -> 0
A20: (v) | B20: Any amount received against issue of commercial paper or any other instruments issued in accordance with the guidelines or notification issued by the Reserve Bank of India. | F20: Exempt | K20: =G20+H20-J20 -> 0
A21: (vi) | B21: Any amount received by the company from any other company. | F21: Exempt | K21: =G21+H21-J21 -> 0
A22: (vii) | B22: Any amount received and held towards subscription to any securities including share application money or advance towards allotment of securities pending allotment, so long as such amount is appropriated only against the amount due on allotment of securities within 60 days from the date of receipt. | F22: Exempt | K22: =G22+H22-J22 -> 0
B23: Any amount received and held towards subscription to any securities including share application money or advance towards allotment of securities, which has not been allotted within 60 days or not refunded for more than 75 days from the date of receipt (amount adjusted for any other purpose will not be treated as refund) | F23: Non Exempt | K23: =G23+H23-J23 -> 0
A24: (viii) | B24: Any amount received from a person who, at the time of the receipt of the amount, was a director of the company or the relative of the director of a private company where it is supported by a declaration that the amount lent is not out of borrowed funds | F24: Exempt | K24: =G24+H24-J24 -> 0
B25: Any amount received from a person who, at the time of the receipt of the amount, was a director of the company or the relative of the director of a private company where it is NOT supported by a declaration that the amount lent is not out of borrowed funds | F25: Non Exempt | K25: =G25+H25-J25 -> 0
A26: (ix) | B26: Any amount raised by the secured bonds or debentures or bonds or debentures compulsorily convertible into shares of the company within ten years. | F26: Exempt | K26: =G26+H26-J26 -> 0
B27: Any amount raised by the secured bonds or debentures or bonds or debentures NOT compulsorily convertible into shares of the company within ten years. | F27: Non Exempt | K27: =G27+H27-J27 -> 0
A28: (ixa) | B28: Any amount raised by the issue of listed unsecured non-convertible debentures | F28: Exempt | K28: =G28+H28-J28 -> 0
B29: Any amount raised by the issue of unlisted unsecured non-convertible debentures | F29: Non Exempt | K29: =G29+H29-J29 -> 0
A30: (x) | B30: Any amount received from an employee of the company not exceeding his annual salary under a contract of employment with the company in the nature of non-interest bearing security deposit. | F30: Exempt | K30: =G30+H30-J30 -> 0
A31: (xi) | B31: Any non-interest bearing amount received and held in trust. | F31: Exempt | K31: =G31+H31-J31 -> 0
A32: (xii) | B32: Any amount received in course of, or for the purposes of the business of the company- | K32: =G32+H32-J32 -> 0
B33: (a) As an advance for supply of goods or provision of services and such advance is appropriated against supply of goods or provision of services within a period of 365 days from the date of acceptance of such advance (other than an advance which is subject matter of legal proceedings before any court of law) | F33: Exempt | K33: =G33+H33-J33 -> 0
B34: As an advance for supply of goods or provision of services where the Company does not have necessary permission or approval, wherever required, to deal in the goods or services for which the money is taken | F34: Non Exempt | K34: =G34+H34-J34 -> 0
B35: As an advance for supply of goods or provision of services and such advance is NOT appropriated against supply of goods or provision of services within a period of 365 days from the date of acceptance of such advance. | F35: Non Exempt | K35: =G35+H35-J35 -> 0
B36: (b) As advance, received in connection with consideration for immovable property under an agreement or arrangement, if such advance is adjusted against such property in accordance with the terms of agreement or arrangement. | F36: Exempt | K36: =G36+H36-J36 -> 0
B37: As advance, received in connection with consideration for immovable property under an agreement or arrangement, where the where the Company does not have necessary permission or approval, wherever required, to deal in the properties for which the money is taken | F37: Non Exempt | K37: =G37+H37-J37 -> 0
B38: As advance, received in connection with consideration for immovable property under an agreement or arrangement, where the advance has NOT been adjusted against such property in accordance with the terms of agreement or arrangement. | F38: Non Exempt | K38: =G38+H38-J38 -> 0
B39: (c) As security deposit for performance of the contract of supply of goods or provision of services. | F39: Exempt | K39: =G39+H39-J39 -> 0
B40: (d) As advance received under long term projects for supply of capital goods (other than that for immovable property) | F40: Exempt | K40: =G40+H40-J40 -> 0
B41: As advance received under long term projects for supply of capital goods (other than that for immovable property) where the Company does not have necessary permission or approval, wherever required, to deal in the goods or services for which the money is taken | F41: Non Exempt | K41: =G41+H41-J41 -> 0
...

Sheet Reconciliation
A1: Reconciliation with Books of Account and Details of Deposits
A3: (A) Amount extracted from Books of account | B3: All amount in ₹
A4: Loans / borrowings from/ in way of: | B4: Opening balance | C4: During the year | F4: Closing Balance
C5: Accepted | D5: Renewed | E5: Repaid
A6: Directors | F6: =B6+C6-E6 -> 0
A7: Relatives of directors | F7: =B7+C7-E7 -> 0
A8: Members | F8: =B8+C8-E8 -> 0
A9: Public | F9: =B9+C9-E9 -> 0
A10: Banks / Co-operative Banks | F10: =B10+C10-E10 -> 0
A11: Non Banking Financial Companies | F11: =B11+C11-E11 -> 0
A12: Central / State Government / local authorities | F12: =B12+C12-E12 -> 0
A13: Foreign Loans | F13: =B13+C13-E13 -> 0
A14: Bonds / Debentures | F14: =B14+C14-E14 -> 0
A15: Employees | F15: =B15+C15-E15 -> 0
A16: Security deposits | F16: =B16+C16-E16 -> 0
A17: Credit balance of customers | F17: =B17+C17-E17 -> 0
... A20: Others (please specify) | F20: =B20+C20-E20 -> 0
A21: Total (a) | B21: =SUM(B6:B20) -> 0 | C21: =SUM(C6:C20) -> 0 | D21: =SUM(D6:D20) -> 0 | E21: =SUM(E6:E20) -> 0 | F21: =SUM(F6:F20) -> 0
A22: (B) Details of Deposits
A23: Exempt deposits (from list of deposits) | B23: =SUMIF('List of Deposits '!$F:$F,"Exempt",'List of Deposits '!G:G) -> 5 | C23: =SUMIF('List of Deposits '!$F:$F,"Exempt",'List of Deposits '!H:H) -> 4 | D23: =SUMIF('List of Deposits '!$F:$F,"Exempt",'List of Deposits '!I:I) -> 3 | E23: =SUMIF('List of Deposits '!$F:$F,"Exempt",'List of Deposits '!J:J) -> 2 | F23: =SUMIF('List of Deposits '!$F:$F,"Exempt",'List of Deposits '!K:K) -> 7
A24: Non exempt deposits (from list of deposits) | B24: =SUMIF('List of Deposits '!$F:$F,"Non Exempt",'List of Deposits '!G:G) -> 0 | C24: =SUMIF('List of Deposits '!$F:$F,"Non Exempt",'List of Deposits '!H:H) -> 0 | D24: =SUMIF('List of Deposits '!$F:$F,"Non Exempt",'List of Deposits '!I:I) -> 0 | E24: =SUMIF('List of Deposits '!$F:$F,"Non Exempt",'List of Deposits '!J:J) -> 0 | F24: =SUMIF('List of Deposits '!$F:$F,"Non Exempt",'List of Deposits '!K:K) -> 0
A25: Total (b) | B25: =SUM(B23:B24) -> 5 | C25: =SUM(C23:C24) -> 4 | D25: =SUM(D23:D24) -> 3 | E25: =SUM(E23:E24) -> 2 | F25: =SUM(F23:F24) -> 7
A26: Difference (a-b) | B26: =B21-B25 -> -5 | C26: =C21-C25 -> -4 | D26: =D21-D25 -> -3 | E26: =E21-E25 -> -2 | F26: =F21-F25 -> -7
A28: Reconciliation for differences, if any:
A29: (1)
A30: (2)
A31: (3)
A32: (4)
A33: (5)
A34: Total | B34: =SUM(B29:B33) -> 0 | C34: =SUM(C29:C33) -> 0 | D34: =SUM(D29:D33) -> 0 | E34: =SUM(E29:E33) -> 0 | F34: =SUM(F29:F33) -> 0
A35: Check | B35: =B26-B34 -> -5 | C35: =C26-C34 -> -4 | D35: =D26-D34 -> -3 | E35: =E26-E34 -> -2 | F35: =F26-F34 -> -7
A37: This professional tool is that of K. C. Mehta & Co., Chartered Accountants (KCM). While every care is taken to ensure the accuracy of this professional tool, neither contributor nor KCM is liable for any inadvertent errors or any action taken on the basis of this professional tool. This professional tool has been downloaded from www.kcmehta.com/ www.vishaldoshi.in. For any queries, kindly mail to the contributor at partik.parikh@kcmehta.com

Sheet Return of Deposits
B2: RETURN OF DEPOSTS REQUIREMENTS
A3: 1 | B3: Net Worth as per the latest audited balance sheet preceding the date of the return as on March 31, XXXX
C5: Particulars | D5: Amount
B6: (a) (i) | C6: Paid up share capital | D6: 0
B7: (ii) | C7: All reserves created out of profits | D7: 0
B8: (iii) | C8: Securities Premium Account | D8: 0
B10: (b) (i) | C10: Accumulated Loss | D10: 0
B11: (ii) | C11: Balance of deferred revenue expenditure | D11: 0
B12: (iii) | C12: Accumulated unprovided depreciation | D12: 0
B13: (iv) | C13: Miscellaneous expense and preliminary expenses | D13: 0
B14: (v) | C14: Revaluation Reserve | D14: 0
B15: (vi) | C15: Reserve created under amalgamation | D15: 0
B16: (c) | C16: Net worth (a) - (b) | D16: 0
B17: (d) | C17: Maximum limit of deposits (i.e. 35% of the above in case of all companies other than specified IFSC public companies and private companies) | D17: =D16*35% -> 0
A19: 2 | B19: (a) | C19: Total number of deposit holders as on 01st April | D19: 0
B20: (b) | C20: Total number of deposit holders at the end of financial year | D20: 0
A22: 3 | C22: Particulars of deposits (In Rupees)
B23: (a) | C23: Amount of existing deposits as on 1st April | D23: 0
B24: (b) | C24: Amount of deposits renewed during the year | D24: 0
B25: (c) | C25: Amount of deposits accepted during the year
C26: (i) Secured | D26: 0
C27: (ii) unsecured | D27: 0
B28: (d) | C28: Amount of deposits repaid during the year | D28: 0
B29: (e) | C29: Balance of deposits outstanding at the end of the year | D29: =D23+D26+D27-D28 -> 0
A31: 4 | B31: (a) | C31: Amount of deposits that have matured but not claimed | D31: 0
B32: (b) | C32: Amount of deposits that have matured and claimed but not paid | D32: 0
A34: 5 | C34: Particulars of liquid assets
B35: (a) | C35: Amount of deposits maturing on or before 31st March next year and following Next Year | D35: 0
B36: (b) | C36: Amount to be invested in Liquid Assets | D36: 0
B37: (c) | C37: Details of Liquid Assets :
C38: Particulars | D38: Amount
B39: (a) | C39: Amount in current or other deposits account, free from charge or lien, with any scheduled bank | D39: 0
B40: (b) | C40: Unencumbered securities of Central/State Government
C41: Face value | D41: 0
C42: Market value | D42: 0
B43: (c) | C43: Unencumbered trust securities
C44: Face value | D44: 0
C45: Market value | D45: 0
